BEGIN:VCALENDAR
VERSION:2.0
PRODID:-//NetAuktion//NONSGML NetAuktion//SV
METHOD:PUBLISH
BEGIN:VEVENT
UID:20260421T102835-1914604397-netauktion.se
DTSTAMP:20260421T102835
DTSTART:20121029T010800
DTEND:20121029T011100
SUMMARY:Netauktion objekt 1261-009 Auktionspåminnelse
DESCRIPTION:Länk till objektet du var intresserad av: https://staging.netauktion.se/auktion/produkt/skrivbord-kinnarp
END:VEVENT
END:VCALENDAR
