BEGIN:VCALENDAR
VERSION:2.0
PRODID:-//NetAuktion//NONSGML NetAuktion//SV
METHOD:PUBLISH
BEGIN:VEVENT
UID:20260421T104354-1971257247-netauktion.se
DTSTAMP:20260421T104354
DTSTART:20121029T011000
DTEND:20121029T011300
SUMMARY:Netauktion objekt 1261-012 Auktionspåminnelse
DESCRIPTION:Länk till objektet du var intresserad av: https://staging.netauktion.se/auktion/produkt/verktyg-skruvstad-mm
END:VEVENT
END:VCALENDAR
