BEGIN:VCALENDAR
VERSION:2.0
PRODID:-//NetAuktion//NONSGML NetAuktion//SV
METHOD:PUBLISH
BEGIN:VEVENT
UID:20260421T104454-549962733-netauktion.se
DTSTAMP:20260421T104454
DTSTART:20130426T022300
DTEND:20130426T022600
SUMMARY:Netauktion objekt 1265-001 Auktionspåminnelse
DESCRIPTION:Länk till objektet du var intresserad av: https://staging.netauktion.se/auktion/produkt/2st-mobiltelefoner-ecom-ex-handy-05
END:VEVENT
END:VCALENDAR
