BEGIN:VCALENDAR
VERSION:2.0
PRODID:-//NetAuktion//NONSGML NetAuktion//SV
METHOD:PUBLISH
BEGIN:VEVENT
UID:20260421T102745-260245342-netauktion.se
DTSTAMP:20260421T102745
DTSTART:20121130T011800
DTEND:20121130T012100
SUMMARY:Netauktion objekt 1182-369 Auktionspåminnelse
DESCRIPTION:Länk till objektet du var intresserad av: https://staging.netauktion.se/auktion/produkt/gjutjarnsurnor-1-par-h47cm-6-2-4
END:VEVENT
END:VCALENDAR
