BEGIN:VCALENDAR
VERSION:2.0
PRODID:-//NetAuktion//NONSGML NetAuktion//SV
METHOD:PUBLISH
BEGIN:VEVENT
UID:20260421T102853-74985836-netauktion.se
DTSTAMP:20260421T102853
DTSTART:20121130T012800
DTEND:20121130T013100
SUMMARY:Netauktion objekt 1182-370 Auktionspåminnelse
DESCRIPTION:Länk till objektet du var intresserad av: https://staging.netauktion.se/auktion/produkt/gjutjarnsurnor-1-par-h47cm-6-2-5
END:VEVENT
END:VCALENDAR
