BEGIN:VCALENDAR
VERSION:2.0
PRODID:-//NetAuktion//NONSGML NetAuktion//SV
METHOD:PUBLISH
BEGIN:VEVENT
UID:20260421T104316-1248439437-netauktion.se
DTSTAMP:20260421T104316
DTSTART:20121130T013200
DTEND:20121130T013500
SUMMARY:Netauktion objekt 1182-375 Auktionspåminnelse
DESCRIPTION:Länk till objektet du var intresserad av: https://staging.netauktion.se/auktion/produkt/gjutjarnsurnor-1-par-h50cm-6-2-3
END:VEVENT
END:VCALENDAR
