BEGIN:VCALENDAR
VERSION:2.0
PRODID:-//NetAuktion//NONSGML NetAuktion//SV
METHOD:PUBLISH
BEGIN:VEVENT
UID:20260425T122750-552340513-netauktion.se
DTSTAMP:20260425T122750
DTSTART:20121221T005300
DTEND:20121221T005600
SUMMARY:Netauktion objekt 1247-045 Auktionspåminnelse
DESCRIPTION:Länk till objektet du var intresserad av: https://staging.netauktion.se/auktion/produkt/yamaha-dragstar-classic-fou714-2007
END:VEVENT
END:VCALENDAR
