BEGIN:VCALENDAR
VERSION:2.0
PRODID:-//NetAuktion//NONSGML NetAuktion//SV
METHOD:PUBLISH
BEGIN:VEVENT
UID:20260425T134425-321442028-netauktion.se
DTSTAMP:20260425T134425
DTSTART:20121221T015200
DTEND:20121221T015500
SUMMARY:Netauktion objekt 1300-015 Auktionspåminnelse
DESCRIPTION:Länk till objektet du var intresserad av: https://staging.netauktion.se/auktion/produkt/plathylla-hylsor-mm
END:VEVENT
END:VCALENDAR
