BEGIN:VCALENDAR
VERSION:2.0
PRODID:-//NetAuktion//NONSGML NetAuktion//SV
METHOD:PUBLISH
BEGIN:VEVENT
UID:20260425T123434-282451512-netauktion.se
DTSTAMP:20260425T123434
DTSTART:20121221T011100
DTEND:20121221T011400
SUMMARY:Netauktion objekt 1300-034 Auktionspåminnelse
DESCRIPTION:Länk till objektet du var intresserad av: https://staging.netauktion.se/auktion/produkt/palettvaxlare-tsudakoma
END:VEVENT
END:VCALENDAR
