BEGIN:VCALENDAR
VERSION:2.0
PRODID:-//NetAuktion//NONSGML NetAuktion//SV
METHOD:PUBLISH
BEGIN:VEVENT
UID:20260425T134725-578242776-netauktion.se
DTSTAMP:20260425T134725
DTSTART:20121221T022000
DTEND:20121221T022300
SUMMARY:Netauktion objekt 1300-046 Auktionspåminnelse
DESCRIPTION:Länk till objektet du var intresserad av: https://staging.netauktion.se/auktion/produkt/spillfat-skarolja-mm
END:VEVENT
END:VCALENDAR
