BEGIN:VCALENDAR
VERSION:2.0
PRODID:-//NetAuktion//NONSGML NetAuktion//SV
METHOD:PUBLISH
BEGIN:VEVENT
UID:20260425T122108-1716783517-netauktion.se
DTSTAMP:20260425T122108
DTSTART:20121221T013400
DTEND:20121221T013700
SUMMARY:Netauktion objekt 1300-051 Auktionspåminnelse
DESCRIPTION:Länk till objektet du var intresserad av: https://staging.netauktion.se/auktion/produkt/vertikal-flerop-mazak
END:VEVENT
END:VCALENDAR
