BEGIN:VCALENDAR
VERSION:2.0
PRODID:-//NetAuktion//NONSGML NetAuktion//SV
METHOD:PUBLISH
BEGIN:VEVENT
UID:20260425T134726-831477852-netauktion.se
DTSTAMP:20260425T134726
DTSTART:20121221T022200
DTEND:20121221T022500
SUMMARY:Netauktion objekt 1300-078 Auktionspåminnelse
DESCRIPTION:Länk till objektet du var intresserad av: https://staging.netauktion.se/auktion/produkt/materialstall-stal
END:VEVENT
END:VCALENDAR
