BEGIN:VCALENDAR
VERSION:2.0
PRODID:-//NetAuktion//NONSGML NetAuktion//SV
METHOD:PUBLISH
BEGIN:VEVENT
UID:20260421T102851-239938425-netauktion.se
DTSTAMP:20260421T102851
DTSTART:20121221T032100
DTEND:20121221T032400
SUMMARY:Netauktion objekt 1300-142 Auktionspåminnelse
DESCRIPTION:Länk till objektet du var intresserad av: https://staging.netauktion.se/auktion/produkt/2st-pallbord-51cm
END:VEVENT
END:VCALENDAR
