BEGIN:VCALENDAR
VERSION:2.0
PRODID:-//NetAuktion//NONSGML NetAuktion//SV
METHOD:PUBLISH
BEGIN:VEVENT
UID:20260421T104400-329235256-netauktion.se
DTSTAMP:20260421T104400
DTSTART:20121221T034200
DTEND:20121221T034500
SUMMARY:Netauktion objekt 1300-160 Auktionspåminnelse
DESCRIPTION:Länk till objektet du var intresserad av: https://staging.netauktion.se/auktion/produkt/kompressortank-tork
END:VEVENT
END:VCALENDAR
