BEGIN:VCALENDAR
VERSION:2.0
PRODID:-//NetAuktion//NONSGML NetAuktion//SV
METHOD:PUBLISH
BEGIN:VEVENT
UID:20260421T102744-1104086899-netauktion.se
DTSTAMP:20260421T102744
DTSTART:20121221T043700
DTEND:20121221T044000
SUMMARY:Netauktion objekt 1300-186 Auktionspåminnelse
DESCRIPTION:Länk till objektet du var intresserad av: https://staging.netauktion.se/auktion/produkt/ny-ejektorpump-dj12-5
END:VEVENT
END:VCALENDAR
