BEGIN:VCALENDAR
VERSION:2.0
PRODID:-//NetAuktion//NONSGML NetAuktion//SV
METHOD:PUBLISH
BEGIN:VEVENT
UID:20260421T102839-1220533553-netauktion.se
DTSTAMP:20260421T102839
DTSTART:20121221T043700
DTEND:20121221T044000
SUMMARY:Netauktion objekt 1300-198 Auktionspåminnelse
DESCRIPTION:Länk till objektet du var intresserad av: https://staging.netauktion.se/auktion/produkt/ny-ejektorpump-dj6-4
END:VEVENT
END:VCALENDAR
