BEGIN:VCALENDAR
VERSION:2.0
PRODID:-//NetAuktion//NONSGML NetAuktion//SV
METHOD:PUBLISH
BEGIN:VEVENT
UID:20260421T104352-1043459779-netauktion.se
DTSTAMP:20260421T104352
DTSTART:20121221T035300
DTEND:20121221T035600
SUMMARY:Netauktion objekt 1300-202 Auktionspåminnelse
DESCRIPTION:Länk till objektet du var intresserad av: https://staging.netauktion.se/auktion/produkt/arbetsbord-9
END:VEVENT
END:VCALENDAR
