BEGIN:VCALENDAR
VERSION:2.0
PRODID:-//NetAuktion//NONSGML NetAuktion//SV
METHOD:PUBLISH
BEGIN:VEVENT
UID:20260421T104445-1047048733-netauktion.se
DTSTAMP:20260421T104445
DTSTART:20121221T045300
DTEND:20121221T045600
SUMMARY:Netauktion objekt 1300-214 Auktionspåminnelse
DESCRIPTION:Länk till objektet du var intresserad av: https://staging.netauktion.se/auktion/produkt/arbetsklader-4
END:VEVENT
END:VCALENDAR
