BEGIN:VCALENDAR
VERSION:2.0
PRODID:-//NetAuktion//NONSGML NetAuktion//SV
METHOD:PUBLISH
BEGIN:VEVENT
UID:20260421T102852-1768388023-netauktion.se
DTSTAMP:20260421T102852
DTSTART:20121221T045700
DTEND:20121221T050000
SUMMARY:Netauktion objekt 1300-217 Auktionspåminnelse
DESCRIPTION:Länk till objektet du var intresserad av: https://staging.netauktion.se/auktion/produkt/omkladning-mm
END:VEVENT
END:VCALENDAR
