BEGIN:VCALENDAR
VERSION:2.0
PRODID:-//NetAuktion//NONSGML NetAuktion//SV
METHOD:PUBLISH
BEGIN:VEVENT
UID:20260421T102854-1488211421-netauktion.se
DTSTAMP:20260421T102854
DTSTART:20121221T045900
DTEND:20121221T050200
SUMMARY:Netauktion objekt 1300-220 Auktionspåminnelse
DESCRIPTION:Länk till objektet du var intresserad av: https://staging.netauktion.se/auktion/produkt/dokumentforstorare-5
END:VEVENT
END:VCALENDAR
