BEGIN:VCALENDAR
VERSION:2.0
PRODID:-//NetAuktion//NONSGML NetAuktion//SV
METHOD:PUBLISH
BEGIN:VEVENT
UID:20260421T104439-1963488278-netauktion.se
DTSTAMP:20260421T104439
DTSTART:20130227T013100
DTEND:20130227T013400
SUMMARY:Netauktion objekt 1146-138 Auktionspåminnelse
DESCRIPTION:Länk till objektet du var intresserad av: https://staging.netauktion.se/auktion/produkt/smyckesset-4-delar-queen-garnet-7
END:VEVENT
END:VCALENDAR
