BEGIN:VCALENDAR
VERSION:2.0
PRODID:-//NetAuktion//NONSGML NetAuktion//SV
METHOD:PUBLISH
BEGIN:VEVENT
UID:20260425T123449-1491427244-netauktion.se
DTSTAMP:20260425T123449
DTSTART:20121221T013900
DTEND:20121221T014200
SUMMARY:Netauktion objekt 1300-094 Auktionspåminnelse
DESCRIPTION:Länk till objektet du var intresserad av: https://staging.netauktion.se/auktion/produkt/slip-tachella-acqui
END:VEVENT
END:VCALENDAR
