BEGIN:VCALENDAR
VERSION:2.0
PRODID:-//NetAuktion//NONSGML NetAuktion//SV
METHOD:PUBLISH
BEGIN:VEVENT
UID:20260425T135428-1004563839-netauktion.se
DTSTAMP:20260425T135428
DTSTART:20121221T023700
DTEND:20121221T024000
SUMMARY:Netauktion objekt 1300-098 Auktionspåminnelse
DESCRIPTION:Länk till objektet du var intresserad av: https://staging.netauktion.se/auktion/produkt/platskap-med-innehall-11
END:VEVENT
END:VCALENDAR
