BEGIN:VCALENDAR
VERSION:2.0
PRODID:-//NetAuktion//NONSGML NetAuktion//SV
METHOD:PUBLISH
BEGIN:VEVENT
UID:20260425T135428-1793106347-netauktion.se
DTSTAMP:20260425T135428
DTSTART:20121221T024300
DTEND:20121221T024600
SUMMARY:Netauktion objekt 1300-100 Auktionspåminnelse
DESCRIPTION:Länk till objektet du var intresserad av: https://staging.netauktion.se/auktion/produkt/arbetsbank-med-verktygstavla-2
END:VEVENT
END:VCALENDAR
