BEGIN:VCALENDAR
VERSION:2.0
PRODID:-//NetAuktion//NONSGML NetAuktion//SV
METHOD:PUBLISH
BEGIN:VEVENT
UID:20260421T104427-1769835295-netauktion.se
DTSTAMP:20260421T104427
DTSTART:20121221T025000
DTEND:20121221T025300
SUMMARY:Netauktion objekt 1300-106 Auktionspåminnelse
DESCRIPTION:Länk till objektet du var intresserad av: https://staging.netauktion.se/auktion/produkt/1st-platskap-2
END:VEVENT
END:VCALENDAR
