BEGIN:VCALENDAR
VERSION:2.0
PRODID:-//NetAuktion//NONSGML NetAuktion//SV
METHOD:PUBLISH
BEGIN:VEVENT
UID:20260421T104317-408931886-netauktion.se
DTSTAMP:20260421T104317
DTSTART:20121221T031100
DTEND:20121221T031400
SUMMARY:Netauktion objekt 1300-132 Auktionspåminnelse
DESCRIPTION:Länk till objektet du var intresserad av: https://staging.netauktion.se/auktion/produkt/gravyrpistol-och-etikettskrivare
END:VEVENT
END:VCALENDAR
