BEGIN:VCALENDAR
VERSION:2.0
PRODID:-//NetAuktion//NONSGML NetAuktion//SV
METHOD:PUBLISH
BEGIN:VEVENT
UID:20260425T122057-1114536480-netauktion.se
DTSTAMP:20260425T122057
DTSTART:20090521T020800
DTEND:20090521T021100
SUMMARY:Netauktion objekt 0201-035 Auktionspåminnelse
DESCRIPTION:Länk till objektet du var intresserad av: https://staging.netauktion.se/auktion/produkt/ny-dykdrakt-waterproof-capri-man-strl-s
END:VEVENT
END:VCALENDAR
