BEGIN:VCALENDAR
VERSION:2.0
PRODID:-//NetAuktion//NONSGML NetAuktion//SV
METHOD:PUBLISH
BEGIN:VEVENT
UID:20260421T104428-1738828258-netauktion.se
DTSTAMP:20260421T104428
DTSTART:20121221T044500
DTEND:20121221T044800
SUMMARY:Netauktion objekt 1300-175 Auktionspåminnelse
DESCRIPTION:Länk till objektet du var intresserad av: https://staging.netauktion.se/auktion/produkt/bord-och-stolar-25
END:VEVENT
END:VCALENDAR
