BEGIN:VCALENDAR
VERSION:2.0
PRODID:-//NetAuktion//NONSGML NetAuktion//SV
METHOD:PUBLISH
BEGIN:VEVENT
UID:20260421T104311-1608006749-netauktion.se
DTSTAMP:20260421T104311
DTSTART:20080620T025800
DTEND:20080620T030100
SUMMARY:Netauktion objekt 0019-006 Auktionspåminnelse
DESCRIPTION:Länk till objektet du var intresserad av: https://staging.netauktion.se/auktion/produkt/chevrolet-pick-up-diesel-82-reparations-objekt
END:VEVENT
END:VCALENDAR
