BEGIN:VCALENDAR
VERSION:2.0
PRODID:-//NetAuktion//NONSGML NetAuktion//SV
METHOD:PUBLISH
BEGIN:VEVENT
UID:20260421T104255-755516177-netauktion.se
DTSTAMP:20260421T104255
DTSTART:20080731T003700
DTEND:20080731T004000
SUMMARY:Netauktion objekt 0005-021 Auktionspåminnelse
DESCRIPTION:Länk till objektet du var intresserad av: https://staging.netauktion.se/auktion/produkt/wellador-kartonger-av-typ-slitslada-2
END:VEVENT
END:VCALENDAR
