BEGIN:VCALENDAR
VERSION:2.0
PRODID:-//NetAuktion//NONSGML NetAuktion//SV
METHOD:PUBLISH
BEGIN:VEVENT
UID:20260421T104602-1811736292-netauktion.se
DTSTAMP:20260421T104602
DTSTART:20121228T055700
DTEND:20121228T060000
SUMMARY:Netauktion objekt 1308-013 Auktionspåminnelse
DESCRIPTION:Länk till objektet du var intresserad av: https://staging.netauktion.se/auktion/produkt/300-st-kaffekapslar-for-epsressomaskin-espresso-67
END:VEVENT
END:VCALENDAR
