BEGIN:VCALENDAR
VERSION:2.0
PRODID:-//NetAuktion//NONSGML NetAuktion//SV
METHOD:PUBLISH
BEGIN:VEVENT
UID:20260421T104605-912645630-netauktion.se
DTSTAMP:20260421T104605
DTSTART:20130131T013300
DTEND:20130131T013600
SUMMARY:Netauktion objekt 1277-027 Auktionspåminnelse
DESCRIPTION:Länk till objektet du var intresserad av: https://staging.netauktion.se/auktion/produkt/dator-dell-dimension-3100-2
END:VEVENT
END:VCALENDAR
