BEGIN:VCALENDAR
VERSION:2.0
PRODID:-//NetAuktion//NONSGML NetAuktion//SV
METHOD:PUBLISH
BEGIN:VEVENT
UID:20260425T134313-2124680896-netauktion.se
DTSTAMP:20260425T134313
DTSTART:20090515T010000
DTEND:20090515T010300
SUMMARY:Netauktion objekt 0128-093 Auktionspåminnelse
DESCRIPTION:Länk till objektet du var intresserad av: https://staging.netauktion.se/auktion/produkt/analog-distrubution-amplifier
END:VEVENT
END:VCALENDAR
