BEGIN:VCALENDAR
VERSION:2.0
PRODID:-//NetAuktion//NONSGML NetAuktion//SV
METHOD:PUBLISH
BEGIN:VEVENT
UID:20260425T134251-895636814-netauktion.se
DTSTAMP:20260425T134251
DTSTART:20090515T005900
DTEND:20090515T010200
SUMMARY:Netauktion objekt 0128-094 Auktionspåminnelse
DESCRIPTION:Länk till objektet du var intresserad av: https://staging.netauktion.se/auktion/produkt/butiksvag
END:VEVENT
END:VCALENDAR
