BEGIN:VCALENDAR
VERSION:2.0
PRODID:-//NetAuktion//NONSGML NetAuktion//SV
METHOD:PUBLISH
BEGIN:VEVENT
UID:20260421T104358-45041115-netauktion.se
DTSTAMP:20260421T104358
DTSTART:20130531T013300
DTEND:20130531T013600
SUMMARY:Netauktion objekt 1017-004 Auktionspåminnelse
DESCRIPTION:Länk till objektet du var intresserad av: https://staging.netauktion.se/auktion/produkt/3st-tavlor-motiv-damer-natur
END:VEVENT
END:VCALENDAR
