BEGIN:VCALENDAR
VERSION:2.0
PRODID:-//NetAuktion//NONSGML NetAuktion//SV
METHOD:PUBLISH
BEGIN:VEVENT
UID:20260425T134353-35213623-netauktion.se
DTSTAMP:20260425T134353
DTSTART:20090515T012700
DTEND:20090515T013000
SUMMARY:Netauktion objekt 0128-103 Auktionspåminnelse
DESCRIPTION:Länk till objektet du var intresserad av: https://staging.netauktion.se/auktion/produkt/smidig-portabel-overhead-2
END:VEVENT
END:VCALENDAR
