BEGIN:VCALENDAR
VERSION:2.0
PRODID:-//NetAuktion//NONSGML NetAuktion//SV
METHOD:PUBLISH
BEGIN:VEVENT
UID:20260421T104429-1613363742-netauktion.se
DTSTAMP:20260421T104429
DTSTART:20130130T023700
DTEND:20130130T024000
SUMMARY:Netauktion objekt 1336-009 Auktionspåminnelse
DESCRIPTION:Länk till objektet du var intresserad av: https://staging.netauktion.se/auktion/produkt/storre-mangd-vinglas-olika-modeller
END:VEVENT
END:VCALENDAR
