BEGIN:VCALENDAR
VERSION:2.0
PRODID:-//NetAuktion//NONSGML NetAuktion//SV
METHOD:PUBLISH
BEGIN:VEVENT
UID:20260425T134355-1631156498-netauktion.se
DTSTAMP:20260425T134355
DTSTART:20090515T010300
DTEND:20090515T010600
SUMMARY:Netauktion objekt 0128-104 Auktionspåminnelse
DESCRIPTION:Länk till objektet du var intresserad av: https://staging.netauktion.se/auktion/produkt/1st-jbl-hogtalare-control-28hw
END:VEVENT
END:VCALENDAR
