BEGIN:VCALENDAR
VERSION:2.0
PRODID:-//NetAuktion//NONSGML NetAuktion//SV
METHOD:PUBLISH
BEGIN:VEVENT
UID:20260425T134353-874501141-netauktion.se
DTSTAMP:20260425T134353
DTSTART:20090515T012700
DTEND:20090515T013000
SUMMARY:Netauktion objekt 0128-106 Auktionspåminnelse
DESCRIPTION:Länk till objektet du var intresserad av: https://staging.netauktion.se/auktion/produkt/interaktiv-whiteboard-tavla
END:VEVENT
END:VCALENDAR
