BEGIN:VCALENDAR
VERSION:2.0
PRODID:-//NetAuktion//NONSGML NetAuktion//SV
METHOD:PUBLISH
BEGIN:VEVENT
UID:20260425T134354-83469909-netauktion.se
DTSTAMP:20260425T134354
DTSTART:20090515T012300
DTEND:20090515T012600
SUMMARY:Netauktion objekt 0128-108 Auktionspåminnelse
DESCRIPTION:Länk till objektet du var intresserad av: https://staging.netauktion.se/auktion/produkt/storre-interaktiv-whiteboard-tavladigitalt-ritbord
END:VEVENT
END:VCALENDAR
