BEGIN:VCALENDAR
VERSION:2.0
PRODID:-//NetAuktion//NONSGML NetAuktion//SV
METHOD:PUBLISH
BEGIN:VEVENT
UID:20260425T134355-1483637089-netauktion.se
DTSTAMP:20260425T134355
DTSTART:20090515T012100
DTEND:20090515T012400
SUMMARY:Netauktion objekt 0128-110 Auktionspåminnelse
DESCRIPTION:Länk till objektet du var intresserad av: https://staging.netauktion.se/auktion/produkt/hogtalar-stativ
END:VEVENT
END:VCALENDAR
