BEGIN:VCALENDAR
VERSION:2.0
PRODID:-//NetAuktion//NONSGML NetAuktion//SV
METHOD:PUBLISH
BEGIN:VEVENT
UID:20260425T134354-741744131-netauktion.se
DTSTAMP:20260425T134354
DTSTART:20090515T011100
DTEND:20090515T011400
SUMMARY:Netauktion objekt 0128-114 Auktionspåminnelse
DESCRIPTION:Länk till objektet du var intresserad av: https://staging.netauktion.se/auktion/produkt/projektorbord-med-plats-for-tex-laptop-eller-overhead
END:VEVENT
END:VCALENDAR
