BEGIN:VCALENDAR
VERSION:2.0
PRODID:-//NetAuktion//NONSGML NetAuktion//SV
METHOD:PUBLISH
BEGIN:VEVENT
UID:20260421T104324-814068410-netauktion.se
DTSTAMP:20260421T104324
DTSTART:20130130T023900
DTEND:20130130T024200
SUMMARY:Netauktion objekt 1193-194 Auktionspåminnelse
DESCRIPTION:Länk till objektet du var intresserad av: https://staging.netauktion.se/auktion/produkt/hushallsredskap
END:VEVENT
END:VCALENDAR
