BEGIN:VCALENDAR
VERSION:2.0
PRODID:-//NetAuktion//NONSGML NetAuktion//SV
METHOD:PUBLISH
BEGIN:VEVENT
UID:20260421T104355-1412821331-netauktion.se
DTSTAMP:20260421T104355
DTSTART:20130131T014500
DTEND:20130131T014800
SUMMARY:Netauktion objekt 1277-032 Auktionspåminnelse
DESCRIPTION:Länk till objektet du var intresserad av: https://staging.netauktion.se/auktion/produkt/laptop-sony-vaio-vgn-cr41s
END:VEVENT
END:VCALENDAR
