BEGIN:VCALENDAR
VERSION:2.0
PRODID:-//NetAuktion//NONSGML NetAuktion//SV
METHOD:PUBLISH
BEGIN:VEVENT
UID:20260421T104303-2096836577-netauktion.se
DTSTAMP:20260421T104303
DTSTART:20080620T030800
DTEND:20080620T031100
SUMMARY:Netauktion objekt 0019-007 Auktionspåminnelse
DESCRIPTION:Länk till objektet du var intresserad av: https://staging.netauktion.se/auktion/produkt/skoda-pick-up-13-97-reg-jrf-532
END:VEVENT
END:VCALENDAR
