BEGIN:VCALENDAR
VERSION:2.0
PRODID:-//NetAuktion//NONSGML NetAuktion//SV
METHOD:PUBLISH
BEGIN:VEVENT
UID:20260421T103006-978813494-netauktion.se
DTSTAMP:20260421T103006
DTSTART:20130131T005800
DTEND:20130131T010100
SUMMARY:Netauktion objekt 1348-003 Auktionspåminnelse
DESCRIPTION:Länk till objektet du var intresserad av: https://staging.netauktion.se/auktion/produkt/sonim-mobiltelefon-built-for-life
END:VEVENT
END:VCALENDAR
