BEGIN:VCALENDAR
VERSION:2.0
PRODID:-//NetAuktion//NONSGML NetAuktion//SV
METHOD:PUBLISH
BEGIN:VEVENT
UID:20260425T134348-1797439051-netauktion.se
DTSTAMP:20260425T134348
DTSTART:20090515T011000
DTEND:20090515T011300
SUMMARY:Netauktion objekt 0128-116 Auktionspåminnelse
DESCRIPTION:Länk till objektet du var intresserad av: https://staging.netauktion.se/auktion/produkt/video-processor
END:VEVENT
END:VCALENDAR
