BEGIN:VCALENDAR
VERSION:2.0
PRODID:-//NetAuktion//NONSGML NetAuktion//SV
METHOD:PUBLISH
BEGIN:VEVENT
UID:20260425T134349-922713405-netauktion.se
DTSTAMP:20260425T134349
DTSTART:20090521T011400
DTEND:20090521T011700
SUMMARY:Netauktion objekt 0128-118 Auktionspåminnelse
DESCRIPTION:Länk till objektet du var intresserad av: https://staging.netauktion.se/auktion/produkt/kablar-for-ljud-bild-och-dator
END:VEVENT
END:VCALENDAR
