BEGIN:VCALENDAR
VERSION:2.0
PRODID:-//NetAuktion//NONSGML NetAuktion//SV
METHOD:PUBLISH
BEGIN:VEVENT
UID:20260425T134313-123479805-netauktion.se
DTSTAMP:20260425T134313
DTSTART:20090515T010500
DTEND:20090515T010800
SUMMARY:Netauktion objekt 0128-119 Auktionspåminnelse
DESCRIPTION:Länk till objektet du var intresserad av: https://staging.netauktion.se/auktion/produkt/dvi-och-audio-video-splitters
END:VEVENT
END:VCALENDAR
