BEGIN:VCALENDAR
VERSION:2.0
PRODID:-//NetAuktion//NONSGML NetAuktion//SV
METHOD:PUBLISH
BEGIN:VEVENT
UID:20260425T134250-899932098-netauktion.se
DTSTAMP:20260425T134250
DTSTART:20090521T011500
DTEND:20090521T011800
SUMMARY:Netauktion objekt 0128-120 Auktionspåminnelse
DESCRIPTION:Länk till objektet du var intresserad av: https://staging.netauktion.se/auktion/produkt/2st-isdn-routers
END:VEVENT
END:VCALENDAR
